BEGIN:VCALENDAR
VERSION:2.0
PRODID:-//SCHÜTZENGESELLSCHAFT SCHÖTMAR VON 1732 e.V. - ECPv6.15.20//NONSGML v1.0//EN
CALSCALE:GREGORIAN
METHOD:PUBLISH
X-WR-CALNAME:SCHÜTZENGESELLSCHAFT SCHÖTMAR VON 1732 e.V.
X-ORIGINAL-URL:https://schuetzengesellschaft-schoetmar.de
X-WR-CALDESC:Veranstaltungen für SCHÜTZENGESELLSCHAFT SCHÖTMAR VON 1732 e.V.
REFRESH-INTERVAL;VALUE=DURATION:PT1H
X-Robots-Tag:noindex
X-PUBLISHED-TTL:PT1H
BEGIN:VTIMEZONE
TZID:Europe/Berlin
BEGIN:DAYLIGHT
TZOFFSETFROM:+0100
TZOFFSETTO:+0200
TZNAME:CEST
DTSTART:20240331T010000
END:DAYLIGHT
BEGIN:STANDARD
TZOFFSETFROM:+0200
TZOFFSETTO:+0100
TZNAME:CET
DTSTART:20241027T010000
END:STANDARD
BEGIN:DAYLIGHT
TZOFFSETFROM:+0100
TZOFFSETTO:+0200
TZNAME:CEST
DTSTART:20250330T010000
END:DAYLIGHT
BEGIN:STANDARD
TZOFFSETFROM:+0200
TZOFFSETTO:+0100
TZNAME:CET
DTSTART:20251026T010000
END:STANDARD
BEGIN:DAYLIGHT
TZOFFSETFROM:+0100
TZOFFSETTO:+0200
TZNAME:CEST
DTSTART:20260329T010000
END:DAYLIGHT
BEGIN:STANDARD
TZOFFSETFROM:+0200
TZOFFSETTO:+0100
TZNAME:CET
DTSTART:20261025T010000
END:STANDARD
END:VTIMEZONE
BEGIN:VEVENT
DTSTART;TZID=Europe/Berlin:20250830T180000
DTEND;TZID=Europe/Berlin:20250830T180000
DTSTAMP:20260424T131616
CREATED:20250203T134023Z
LAST-MODIFIED:20250801T124741Z
UID:24008-1756576800-1756576800@schuetzengesellschaft-schoetmar.de
SUMMARY:SOMMERFEST 2025
DESCRIPTION:Für eine Spende geht am Abend der Hut herum
URL:https://schuetzengesellschaft-schoetmar.de/event/sommerfest/
LOCATION:Thinius Garten\, Schloßstraße 59\, Bad Salzuflen\, NRW\, 32108\, Germany
CATEGORIES:Verein
END:VEVENT
END:VCALENDAR