BEGIN:VCALENDAR
VERSION:2.0
PRODID:-//SCHÜTZENGESELLSCHAFT SCHÖTMAR VON 1732 e.V. - ECPv6.15.20//NONSGML v1.0//EN
CALSCALE:GREGORIAN
METHOD:PUBLISH
X-WR-CALNAME:SCHÜTZENGESELLSCHAFT SCHÖTMAR VON 1732 e.V.
X-ORIGINAL-URL:https://schuetzengesellschaft-schoetmar.de
X-WR-CALDESC:Veranstaltungen für SCHÜTZENGESELLSCHAFT SCHÖTMAR VON 1732 e.V.
REFRESH-INTERVAL;VALUE=DURATION:PT1H
X-Robots-Tag:noindex
X-PUBLISHED-TTL:PT1H
BEGIN:VTIMEZONE
TZID:Europe/Berlin
BEGIN:DAYLIGHT
TZOFFSETFROM:+0100
TZOFFSETTO:+0200
TZNAME:CEST
DTSTART:20250330T010000
END:DAYLIGHT
BEGIN:STANDARD
TZOFFSETFROM:+0200
TZOFFSETTO:+0100
TZNAME:CET
DTSTART:20251026T010000
END:STANDARD
BEGIN:DAYLIGHT
TZOFFSETFROM:+0100
TZOFFSETTO:+0200
TZNAME:CEST
DTSTART:20260329T010000
END:DAYLIGHT
BEGIN:STANDARD
TZOFFSETFROM:+0200
TZOFFSETTO:+0100
TZNAME:CET
DTSTART:20261025T010000
END:STANDARD
BEGIN:DAYLIGHT
TZOFFSETFROM:+0100
TZOFFSETTO:+0200
TZNAME:CEST
DTSTART:20270328T010000
END:DAYLIGHT
BEGIN:STANDARD
TZOFFSETFROM:+0200
TZOFFSETTO:+0100
TZNAME:CET
DTSTART:20271031T010000
END:STANDARD
END:VTIMEZONE
BEGIN:VEVENT
DTSTART;VALUE=DATE:20261010
DTEND;VALUE=DATE:20261012
DTSTAMP:20260423T195007
CREATED:20260206T140719Z
LAST-MODIFIED:20260206T140719Z
UID:25164-1791619200-1791705599@schuetzengesellschaft-schoetmar.de
SUMMARY:HERBST EVENT
DESCRIPTION: 
URL:https://schuetzengesellschaft-schoetmar.de/event/winter-event-treffen-zum-kloenen-und-start-ins-neue-jahr-2-2/
LOCATION:Unbekannt
CATEGORIES:Verein
END:VEVENT
BEGIN:VEVENT
DTSTART;TZID=Europe/Berlin:20261030T093000
DTEND;TZID=Europe/Berlin:20261030T093000
DTSTAMP:20260423T195007
CREATED:20260206T140920Z
LAST-MODIFIED:20260206T140920Z
UID:25166-1793352600-1793352600@schuetzengesellschaft-schoetmar.de
SUMMARY:Ü-65 MEISTERSCHAFT
DESCRIPTION: 
URL:https://schuetzengesellschaft-schoetmar.de/event/ue-65-meisterschaft-2-2/
LOCATION:Schießstand am Schützenhaus\, Eduard-Wolff-Straße 12\, Bad Salzuflen\, NRW\, 32108\, Deutschland
CATEGORIES:Verein
END:VEVENT
BEGIN:VEVENT
DTSTART;TZID=Europe/Berlin:20261113T200000
DTEND;TZID=Europe/Berlin:20261113T200000
DTSTAMP:20260423T195007
CREATED:20260206T124617Z
LAST-MODIFIED:20260206T124617Z
UID:25101-1794600000-1794600000@schuetzengesellschaft-schoetmar.de
SUMMARY:SMALL TALK – DER SCHÜTZENSTAMMTISCH
DESCRIPTION: 
URL:https://schuetzengesellschaft-schoetmar.de/event/stammtisch-9-10/
LOCATION:Mark´s Gastronomie im Schützenhaus\, Eduard-Wolff-Straße 12\, Bad Salzuflen\, NRW\, 32108
CATEGORIES:Verein
END:VEVENT
BEGIN:VEVENT
DTSTART;TZID=Europe/Berlin:20261115T110000
DTEND;TZID=Europe/Berlin:20261115T110000
DTSTAMP:20260423T195007
CREATED:20260206T141149Z
LAST-MODIFIED:20260206T141149Z
UID:25168-1794740400-1794740400@schuetzengesellschaft-schoetmar.de
SUMMARY:VOLKSTRAUERTAG - GEDENKFEIER MIT KRANZNIEDERLEGUNG
DESCRIPTION: 
URL:https://schuetzengesellschaft-schoetmar.de/event/volkstrauertag-gedenkfeier-2/
LOCATION:Ehrenmal im Schlosspark
CATEGORIES:Jungschützen,Mannschaften,Offiziers-Corps,Sportschützen,Unteroffiziers-Corps,Verein,Vorstand
ATTACH;FMTTYPE=image/jpeg:https://schuetzengesellschaft-schoetmar.de/wp-content/uploads/2014/04/Ehrenmal_klein-e1447769422547.jpg
END:VEVENT
BEGIN:VEVENT
DTSTART;TZID=Europe/Berlin:20261211T200000
DTEND;TZID=Europe/Berlin:20261211T200000
DTSTAMP:20260423T195007
CREATED:20260206T124754Z
LAST-MODIFIED:20260206T124807Z
UID:25102-1797019200-1797019200@schuetzengesellschaft-schoetmar.de
SUMMARY:SMALL TALK – DER SCHÜTZENSTAMMTISCH
DESCRIPTION: 
URL:https://schuetzengesellschaft-schoetmar.de/event/stammtisch-9-11/
LOCATION:Mark´s Gastronomie im Schützenhaus\, Eduard-Wolff-Straße 12\, Bad Salzuflen\, NRW\, 32108
CATEGORIES:Verein
END:VEVENT
END:VCALENDAR