BEGIN:VCALENDAR
VERSION:2.0
PRODID:-//SCHÜTZENGESELLSCHAFT SCHÖTMAR VON 1732 e.V. - ECPv6.15.20//NONSGML v1.0//EN
CALSCALE:GREGORIAN
METHOD:PUBLISH
X-WR-CALNAME:SCHÜTZENGESELLSCHAFT SCHÖTMAR VON 1732 e.V.
X-ORIGINAL-URL:https://schuetzengesellschaft-schoetmar.de
X-WR-CALDESC:Veranstaltungen für SCHÜTZENGESELLSCHAFT SCHÖTMAR VON 1732 e.V.
REFRESH-INTERVAL;VALUE=DURATION:PT1H
X-Robots-Tag:noindex
X-PUBLISHED-TTL:PT1H
BEGIN:VTIMEZONE
TZID:Europe/Berlin
BEGIN:DAYLIGHT
TZOFFSETFROM:+0100
TZOFFSETTO:+0200
TZNAME:CEST
DTSTART:20250330T010000
END:DAYLIGHT
BEGIN:STANDARD
TZOFFSETFROM:+0200
TZOFFSETTO:+0100
TZNAME:CET
DTSTART:20251026T010000
END:STANDARD
BEGIN:DAYLIGHT
TZOFFSETFROM:+0100
TZOFFSETTO:+0200
TZNAME:CEST
DTSTART:20260329T010000
END:DAYLIGHT
BEGIN:STANDARD
TZOFFSETFROM:+0200
TZOFFSETTO:+0100
TZNAME:CET
DTSTART:20261025T010000
END:STANDARD
BEGIN:DAYLIGHT
TZOFFSETFROM:+0100
TZOFFSETTO:+0200
TZNAME:CEST
DTSTART:20270328T010000
END:DAYLIGHT
BEGIN:STANDARD
TZOFFSETFROM:+0200
TZOFFSETTO:+0100
TZNAME:CET
DTSTART:20271031T010000
END:STANDARD
END:VTIMEZONE
BEGIN:VEVENT
DTSTART;VALUE=DATE:20260710
DTEND;VALUE=DATE:20260714
DTSTAMP:20260423T181927
CREATED:20260206T132901Z
LAST-MODIFIED:20260206T142519Z
UID:25139-1783670400-1783929599@schuetzengesellschaft-schoetmar.de
SUMMARY:WSB-JUGENDCAMP 2026
DESCRIPTION:
URL:https://schuetzengesellschaft-schoetmar.de/event/wsb-jugendcamp-2023-2/
LOCATION:SV Nienhagen von 1905\, Herforder Straße 256a\, Leopoldshöhe\, NRW\, 33818\, Deutschland
CATEGORIES:Jungschützen
ATTACH;FMTTYPE=image/jpeg:https://schuetzengesellschaft-schoetmar.de/wp-content/uploads/2026/02/Jugendcamp-HEader.jpg
END:VEVENT
BEGIN:VEVENT
DTSTART;TZID=Europe/Berlin:20260710T200000
DTEND;TZID=Europe/Berlin:20260710T200000
DTSTAMP:20260423T181927
CREATED:20260206T124253Z
LAST-MODIFIED:20260206T124253Z
UID:25098-1783713600-1783713600@schuetzengesellschaft-schoetmar.de
SUMMARY:SMALL TALK – DER SCHÜTZENSTAMMTISCH
DESCRIPTION:
URL:https://schuetzengesellschaft-schoetmar.de/event/stammtisch-9-7/
LOCATION:Mark´s Gastronomie im Schützenhaus\, Eduard-Wolff-Straße 12\, Bad Salzuflen\, NRW\, 32108
CATEGORIES:Verein
END:VEVENT
BEGIN:VEVENT
DTSTART;TZID=Europe/Berlin:20260718T180000
DTEND;TZID=Europe/Berlin:20260718T180000
DTSTAMP:20260423T181927
CREATED:20260206T134525Z
LAST-MODIFIED:20260206T134525Z
UID:25148-1784397600-1784397600@schuetzengesellschaft-schoetmar.de
SUMMARY:OBERNBERG PARTY
DESCRIPTION:
URL:https://schuetzengesellschaft-schoetmar.de/event/oberrnberg-party-2/
LOCATION:Schießstand am Obernberg\, Oberer Waldfriedenpfad\, Bad Salzuflen\, NRW\, 32105\, Deutschland
CATEGORIES:Befreundeter Verein,Öffentlich
END:VEVENT
BEGIN:VEVENT
DTSTART;TZID=Europe/Berlin:20260814T200000
DTEND;TZID=Europe/Berlin:20260814T200000
DTSTAMP:20260423T181927
CREATED:20260206T124352Z
LAST-MODIFIED:20260206T124352Z
UID:25099-1786737600-1786737600@schuetzengesellschaft-schoetmar.de
SUMMARY:SMALL TALK – DER SCHÜTZENSTAMMTISCH
DESCRIPTION:
URL:https://schuetzengesellschaft-schoetmar.de/event/stammtisch-9-8/
LOCATION:Mark´s Gastronomie im Schützenhaus\, Eduard-Wolff-Straße 12\, Bad Salzuflen\, NRW\, 32108
CATEGORIES:Verein
END:VEVENT
BEGIN:VEVENT
DTSTART;TZID=Europe/Berlin:20260815T180000
DTEND;TZID=Europe/Berlin:20260815T180000
DTSTAMP:20260423T181927
CREATED:20260206T134856Z
LAST-MODIFIED:20260206T134856Z
UID:25150-1786816800-1786816800@schuetzengesellschaft-schoetmar.de
SUMMARY:SOMMERFEST 2026
DESCRIPTION:
URL:https://schuetzengesellschaft-schoetmar.de/event/sommerfest-2/
LOCATION:Unbekannt
CATEGORIES:Verein
END:VEVENT
BEGIN:VEVENT
DTSTART;VALUE=DATE:20260828
DTEND;VALUE=DATE:20260901
DTSTAMP:20260423T181927
CREATED:20260206T135024Z
LAST-MODIFIED:20260206T135243Z
UID:25153-1787904000-1788163199@schuetzengesellschaft-schoetmar.de
SUMMARY:SCHÜTZENFEST BAD SALZUFLEN
DESCRIPTION:
URL:https://schuetzengesellschaft-schoetmar.de/event/schuetzenfest-bad-salzuflen-2/
LOCATION:Schießstand am Obernberg\, Oberer Waldfriedenpfad\, Bad Salzuflen\, NRW\, 32105\, Deutschland
CATEGORIES:Befreundeter Verein,Verein
END:VEVENT
BEGIN:VEVENT
DTSTART;TZID=Europe/Berlin:20260911T200000
DTEND;TZID=Europe/Berlin:20260911T200000
DTSTAMP:20260423T181927
CREATED:20260206T124451Z
LAST-MODIFIED:20260206T124451Z
UID:25100-1789156800-1789156800@schuetzengesellschaft-schoetmar.de
SUMMARY:SMALL TALK – DER SCHÜTZENSTAMMTISCH
DESCRIPTION:
URL:https://schuetzengesellschaft-schoetmar.de/event/stammtisch-9-9/
LOCATION:Mark´s Gastronomie im Schützenhaus\, Eduard-Wolff-Straße 12\, Bad Salzuflen\, NRW\, 32108
CATEGORIES:Verein
END:VEVENT
BEGIN:VEVENT
DTSTART;TZID=Europe/Berlin:20260912T090000
DTEND;TZID=Europe/Berlin:20260912T090000
DTSTAMP:20260423T181927
CREATED:20260206T135512Z
LAST-MODIFIED:20260206T135512Z
UID:25155-1789203600-1789203600@schuetzengesellschaft-schoetmar.de
SUMMARY:UFFZ./OFFZ.-POKAL
DESCRIPTION:
URL:https://schuetzengesellschaft-schoetmar.de/event/uffz-mannschafts-vs-offz-pokal-schiessen-2/
LOCATION:Schießstand am Schützenhaus\, Eduard-Wolff-Straße 12\, Bad Salzuflen\, NRW\, 32108\, Deutschland
CATEGORIES:Mannschaften,Offiziers-Corps,Unteroffiziers-Corps,Verein
END:VEVENT
BEGIN:VEVENT
DTSTART;VALUE=DATE:20260918
DTEND;VALUE=DATE:20260921
DTSTAMP:20260423T181927
CREATED:20260206T140318Z
LAST-MODIFIED:20260206T141934Z
UID:25157-1789718400-1789891199@schuetzengesellschaft-schoetmar.de
SUMMARY:75. WESTFÄLISCHER SCHÜTZENTAG IN BLOMBERG
DESCRIPTION:
URL:https://schuetzengesellschaft-schoetmar.de/event/75-westfaelischer-schuetzentag-in-blomberg/
LOCATION:Blomberg\, Blomberg\, NRW\, 33825
CATEGORIES:Verein
ATTACH;FMTTYPE=image/png:https://schuetzengesellschaft-schoetmar.de/wp-content/uploads/2026/02/75_ST_Blomberg-1.png
END:VEVENT
BEGIN:VEVENT
DTSTART;VALUE=DATE:20260927
DTEND;VALUE=DATE:20260929
DTSTAMP:20260423T181927
CREATED:20260206T140535Z
LAST-MODIFIED:20260206T140535Z
UID:25162-1790496000-1790582399@schuetzengesellschaft-schoetmar.de
SUMMARY:KREIS DAMEN-POKAL
DESCRIPTION:
URL:https://schuetzengesellschaft-schoetmar.de/event/kreiskoenigsschiessen-detmold-3/
LOCATION:Unbekannt
CATEGORIES:Verein
END:VEVENT
BEGIN:VEVENT
DTSTART;VALUE=DATE:20261010
DTEND;VALUE=DATE:20261012
DTSTAMP:20260423T181927
CREATED:20260206T140719Z
LAST-MODIFIED:20260206T140719Z
UID:25164-1791619200-1791705599@schuetzengesellschaft-schoetmar.de
SUMMARY:HERBST EVENT
DESCRIPTION:
URL:https://schuetzengesellschaft-schoetmar.de/event/winter-event-treffen-zum-kloenen-und-start-ins-neue-jahr-2-2/
LOCATION:Unbekannt
CATEGORIES:Verein
END:VEVENT
BEGIN:VEVENT
DTSTART;TZID=Europe/Berlin:20261030T093000
DTEND;TZID=Europe/Berlin:20261030T093000
DTSTAMP:20260423T181927
CREATED:20260206T140920Z
LAST-MODIFIED:20260206T140920Z
UID:25166-1793352600-1793352600@schuetzengesellschaft-schoetmar.de
SUMMARY:Ü-65 MEISTERSCHAFT
DESCRIPTION:
URL:https://schuetzengesellschaft-schoetmar.de/event/ue-65-meisterschaft-2-2/
LOCATION:Schießstand am Schützenhaus\, Eduard-Wolff-Straße 12\, Bad Salzuflen\, NRW\, 32108\, Deutschland
CATEGORIES:Verein
END:VEVENT
BEGIN:VEVENT
DTSTART;TZID=Europe/Berlin:20261113T200000
DTEND;TZID=Europe/Berlin:20261113T200000
DTSTAMP:20260423T181927
CREATED:20260206T124617Z
LAST-MODIFIED:20260206T124617Z
UID:25101-1794600000-1794600000@schuetzengesellschaft-schoetmar.de
SUMMARY:SMALL TALK – DER SCHÜTZENSTAMMTISCH
DESCRIPTION:
URL:https://schuetzengesellschaft-schoetmar.de/event/stammtisch-9-10/
LOCATION:Mark´s Gastronomie im Schützenhaus\, Eduard-Wolff-Straße 12\, Bad Salzuflen\, NRW\, 32108
CATEGORIES:Verein
END:VEVENT
BEGIN:VEVENT
DTSTART;TZID=Europe/Berlin:20261115T110000
DTEND;TZID=Europe/Berlin:20261115T110000
DTSTAMP:20260423T181927
CREATED:20260206T141149Z
LAST-MODIFIED:20260206T141149Z
UID:25168-1794740400-1794740400@schuetzengesellschaft-schoetmar.de
SUMMARY:VOLKSTRAUERTAG - GEDENKFEIER MIT KRANZNIEDERLEGUNG
DESCRIPTION:
URL:https://schuetzengesellschaft-schoetmar.de/event/volkstrauertag-gedenkfeier-2/
LOCATION:Ehrenmal im Schlosspark
CATEGORIES:Jungschützen,Mannschaften,Offiziers-Corps,Sportschützen,Unteroffiziers-Corps,Verein,Vorstand
ATTACH;FMTTYPE=image/jpeg:https://schuetzengesellschaft-schoetmar.de/wp-content/uploads/2014/04/Ehrenmal_klein-e1447769422547.jpg
END:VEVENT
BEGIN:VEVENT
DTSTART;TZID=Europe/Berlin:20261211T200000
DTEND;TZID=Europe/Berlin:20261211T200000
DTSTAMP:20260423T181927
CREATED:20260206T124754Z
LAST-MODIFIED:20260206T124807Z
UID:25102-1797019200-1797019200@schuetzengesellschaft-schoetmar.de
SUMMARY:SMALL TALK – DER SCHÜTZENSTAMMTISCH
DESCRIPTION:
URL:https://schuetzengesellschaft-schoetmar.de/event/stammtisch-9-11/
LOCATION:Mark´s Gastronomie im Schützenhaus\, Eduard-Wolff-Straße 12\, Bad Salzuflen\, NRW\, 32108
CATEGORIES:Verein
END:VEVENT
END:VCALENDAR